BEGIN:VCALENDAR
VERSION:2.0
PRODID:-//Twin Lakes Golf Club - ECPv6.15.20//NONSGML v1.0//EN
CALSCALE:GREGORIAN
METHOD:PUBLISH
X-WR-CALNAME:Twin Lakes Golf Club
X-ORIGINAL-URL:https://mtnhomegolf.com
X-WR-CALDESC:Events for Twin Lakes Golf Club
REFRESH-INTERVAL;VALUE=DURATION:PT1H
X-Robots-Tag:noindex
X-PUBLISHED-TTL:PT1H
BEGIN:VTIMEZONE
TZID:America/Toronto
BEGIN:DAYLIGHT
TZOFFSETFROM:-0500
TZOFFSETTO:-0400
TZNAME:EDT
DTSTART:20250309T070000
END:DAYLIGHT
BEGIN:STANDARD
TZOFFSETFROM:-0400
TZOFFSETTO:-0500
TZNAME:EST
DTSTART:20251102T060000
END:STANDARD
BEGIN:DAYLIGHT
TZOFFSETFROM:-0500
TZOFFSETTO:-0400
TZNAME:EDT
DTSTART:20260308T070000
END:DAYLIGHT
BEGIN:STANDARD
TZOFFSETFROM:-0400
TZOFFSETTO:-0500
TZNAME:EST
DTSTART:20261101T060000
END:STANDARD
BEGIN:DAYLIGHT
TZOFFSETFROM:-0500
TZOFFSETTO:-0400
TZNAME:EDT
DTSTART:20270314T070000
END:DAYLIGHT
BEGIN:STANDARD
TZOFFSETFROM:-0400
TZOFFSETTO:-0500
TZNAME:EST
DTSTART:20271107T060000
END:STANDARD
END:VTIMEZONE
BEGIN:VTIMEZONE
TZID:America/Chicago
BEGIN:DAYLIGHT
TZOFFSETFROM:-0600
TZOFFSETTO:-0500
TZNAME:CDT
DTSTART:20250309T080000
END:DAYLIGHT
BEGIN:STANDARD
TZOFFSETFROM:-0500
TZOFFSETTO:-0600
TZNAME:CST
DTSTART:20251102T070000
END:STANDARD
BEGIN:DAYLIGHT
TZOFFSETFROM:-0600
TZOFFSETTO:-0500
TZNAME:CDT
DTSTART:20260308T080000
END:DAYLIGHT
BEGIN:STANDARD
TZOFFSETFROM:-0500
TZOFFSETTO:-0600
TZNAME:CST
DTSTART:20261101T070000
END:STANDARD
BEGIN:DAYLIGHT
TZOFFSETFROM:-0600
TZOFFSETTO:-0500
TZNAME:CDT
DTSTART:20270314T080000
END:DAYLIGHT
BEGIN:STANDARD
TZOFFSETFROM:-0500
TZOFFSETTO:-0600
TZNAME:CST
DTSTART:20271107T070000
END:STANDARD
END:VTIMEZONE
BEGIN:VEVENT
DTSTART;TZID=America/Toronto:20260420T150000
DTEND;TZID=America/Toronto:20260420T150000
DTSTAMP:20260419T153422
CREATED:20260305T144241Z
LAST-MODIFIED:20260305T144241Z
UID:10000013-1776697200-1776697200@mtnhomegolf.com
SUMMARY:Monday Night Twilight Mixed League
DESCRIPTION:Monday Night Twilight Mixed League: Mondays\, starting April 13. Check-in starts at 3:00. Shotgun start at 3:45 p.m. Last day of play is October 12.
URL:https://mtnhomegolf.com/event/monday-night-twilight-mixed-league/2026-04-20/
END:VEVENT
BEGIN:VEVENT
DTSTART;TZID=America/Toronto:20260421T070000
DTEND;TZID=America/Toronto:20260421T070000
DTSTAMP:20260419T153422
CREATED:20260305T144421Z
LAST-MODIFIED:20260305T144421Z
UID:10000041-1776754800-1776754800@mtnhomegolf.com
SUMMARY:Men's League
DESCRIPTION:Men’s League: Tuesdays\, starting April 7. Check-in starts at 7:00. Shotgun start at 8:00 a.m. Last day of play October 13.
URL:https://mtnhomegolf.com/event/mens-league/2026-04-21/
END:VEVENT
BEGIN:VEVENT
DTSTART;TZID=America/Toronto:20260423T073000
DTEND;TZID=America/Toronto:20260423T073000
DTSTAMP:20260419T153422
CREATED:20260305T144555Z
LAST-MODIFIED:20260305T144555Z
UID:10000069-1776929400-1776929400@mtnhomegolf.com
SUMMARY:Ladies' League
DESCRIPTION:Ladies’ League: Thursdays\, starting April 9. Check-in starts at 7:30. Shotgun start at 8:30 a.m. Last day of play October 8.
URL:https://mtnhomegolf.com/event/ladies-league/2026-04-23/
END:VEVENT
BEGIN:VEVENT
DTSTART;TZID=America/Toronto:20260423T170000
DTEND;TZID=America/Toronto:20260423T170000
DTSTAMP:20260419T153422
CREATED:20260305T144734Z
LAST-MODIFIED:20260305T144734Z
UID:10000096-1776963600-1776963600@mtnhomegolf.com
SUMMARY:Business Men's Thursday Night League
DESCRIPTION:Business Men’s Thursday Night League: Thursdays\, starting April 9. Check-in starts at 5:00. Shotgun start 5:30 p.m. Last day of play September 24.
URL:https://mtnhomegolf.com/event/business-mens-thursday-night-league/2026-04-23/
END:VEVENT
BEGIN:VEVENT
DTSTART;TZID=America/Chicago:20260425T090000
DTEND;TZID=America/Chicago:20260425T130000
DTSTAMP:20260419T153422
CREATED:20260219T175445Z
LAST-MODIFIED:20260301T215755Z
UID:10000001-1777107600-1777122000@mtnhomegolf.com
SUMMARY:Chili Open
DESCRIPTION:
URL:https://mtnhomegolf.com/event/chili-open/
END:VEVENT
BEGIN:VEVENT
DTSTART;TZID=America/Toronto:20260427T150000
DTEND;TZID=America/Toronto:20260427T150000
DTSTAMP:20260419T153422
CREATED:20260305T144241Z
LAST-MODIFIED:20260305T144241Z
UID:10000014-1777302000-1777302000@mtnhomegolf.com
SUMMARY:Monday Night Twilight Mixed League
DESCRIPTION:Monday Night Twilight Mixed League: Mondays\, starting April 13. Check-in starts at 3:00. Shotgun start at 3:45 p.m. Last day of play is October 12.
URL:https://mtnhomegolf.com/event/monday-night-twilight-mixed-league/2026-04-27/
END:VEVENT
BEGIN:VEVENT
DTSTART;TZID=America/Toronto:20260428T070000
DTEND;TZID=America/Toronto:20260428T070000
DTSTAMP:20260419T153422
CREATED:20260305T144421Z
LAST-MODIFIED:20260305T144421Z
UID:10000042-1777359600-1777359600@mtnhomegolf.com
SUMMARY:Men's League
DESCRIPTION:Men’s League: Tuesdays\, starting April 7. Check-in starts at 7:00. Shotgun start at 8:00 a.m. Last day of play October 13.
URL:https://mtnhomegolf.com/event/mens-league/2026-04-28/
END:VEVENT
BEGIN:VEVENT
DTSTART;TZID=America/Toronto:20260430T073000
DTEND;TZID=America/Toronto:20260430T073000
DTSTAMP:20260419T153422
CREATED:20260305T144555Z
LAST-MODIFIED:20260305T144555Z
UID:10000070-1777534200-1777534200@mtnhomegolf.com
SUMMARY:Ladies' League
DESCRIPTION:Ladies’ League: Thursdays\, starting April 9. Check-in starts at 7:30. Shotgun start at 8:30 a.m. Last day of play October 8.
URL:https://mtnhomegolf.com/event/ladies-league/2026-04-30/
END:VEVENT
BEGIN:VEVENT
DTSTART;TZID=America/Toronto:20260430T170000
DTEND;TZID=America/Toronto:20260430T170000
DTSTAMP:20260419T153422
CREATED:20260305T144734Z
LAST-MODIFIED:20260305T144734Z
UID:10000097-1777568400-1777568400@mtnhomegolf.com
SUMMARY:Business Men's Thursday Night League
DESCRIPTION:Business Men’s Thursday Night League: Thursdays\, starting April 9. Check-in starts at 5:00. Shotgun start 5:30 p.m. Last day of play September 24.
URL:https://mtnhomegolf.com/event/business-mens-thursday-night-league/2026-04-30/
END:VEVENT
END:VCALENDAR